BEGIN:VCALENDAR
VERSION:2.0
PRODID:-//Universo Visual - ECPv6.3.2//NONSGML v1.0//EN
CALSCALE:GREGORIAN
METHOD:PUBLISH
X-WR-CALNAME:Universo Visual
X-ORIGINAL-URL:https://cursos.universovisual.com.br
X-WR-CALDESC:Eventos para Universo Visual
REFRESH-INTERVAL;VALUE=DURATION:PT1H
X-Robots-Tag:noindex
X-PUBLISHED-TTL:PT1H
BEGIN:VTIMEZONE
TZID:America/Sao_Paulo
BEGIN:STANDARD
TZOFFSETFROM:-0300
TZOFFSETTO:-0300
TZNAME:-03
DTSTART:20230101T000000
END:STANDARD
END:VTIMEZONE
BEGIN:VEVENT
DTSTART;TZID=America/Sao_Paulo:20230608T080000
DTEND;TZID=America/Sao_Paulo:20230610T170000
DTSTAMP:20260421T203451
CREATED:20230529T184229Z
LAST-MODIFIED:20230529T184229Z
UID:26438-1686211200-1686416400@cursos.universovisual.com.br
SUMMARY:XXIV Congresso da Sociedade Brasileira de Uveítes
DESCRIPTION:O SBU\, acontece de 8 a 10 de junho de 2023\, em Uberlândia/MG \n\n\nPara mais informações clique aqui.
URL:https://cursos.universovisual.com.br/evento/xxiv-congresso-da-sociedade-brasileira-de-uveites/
END:VEVENT
BEGIN:VEVENT
DTSTART;VALUE=DATE:20230609
DTEND;VALUE=DATE:20230612
DTSTAMP:20260421T203451
CREATED:20221013T230008Z
LAST-MODIFIED:20230605T193825Z
UID:20786-1686268800-1686527999@cursos.universovisual.com.br
SUMMARY:10º Simpósio Europeu Anual da AECOS
DESCRIPTION:O 10º Simpósio Europeu Anual da AECOS acontece de 09 a 11 de Junho de 2023\, em Florença\, Itália.\n\nMais informações em https://aecosurgery.org/2023-europe-symposium/
URL:https://cursos.universovisual.com.br/evento/10o-simposio-europeu-anual-da-aecos/
END:VEVENT
END:VCALENDAR