BEGIN:VCALENDAR
VERSION:2.0
PRODID:-//Universo Visual - ECPv6.3.2//NONSGML v1.0//EN
CALSCALE:GREGORIAN
METHOD:PUBLISH
X-WR-CALNAME:Universo Visual
X-ORIGINAL-URL:https://cursos.universovisual.com.br
X-WR-CALDESC:Eventos para Universo Visual
REFRESH-INTERVAL;VALUE=DURATION:PT1H
X-Robots-Tag:noindex
X-PUBLISHED-TTL:PT1H
BEGIN:VTIMEZONE
TZID:America/Sao_Paulo
BEGIN:STANDARD
TZOFFSETFROM:-0300
TZOFFSETTO:-0300
TZNAME:-03
DTSTART:20220101T000000
END:STANDARD
END:VTIMEZONE
BEGIN:VEVENT
DTSTART;VALUE=DATE:20221103
DTEND;VALUE=DATE:20221104
DTSTAMP:20260422T063430
CREATED:20221013T225730Z
LAST-MODIFIED:20221013T225730Z
UID:20780-1667433600-1667519999@cursos.universovisual.com.br
SUMMARY:41º Congresso do Hospital São Geraldo
DESCRIPTION:De 03 a 05 de Novembro acontece o 41º Congresso do Hospital São Geraldo\, Belo Horizonte/MG.\nMais informações em https://www.saogeraldo2022. com.br/
URL:https://cursos.universovisual.com.br/evento/41o-congresso-do-hospital-sao-geraldo/
END:VEVENT
BEGIN:VEVENT
DTSTART;VALUE=DATE:20221108
DTEND;VALUE=DATE:20221109
DTSTAMP:20260422T063430
CREATED:20221013T225810Z
LAST-MODIFIED:20221013T225810Z
UID:20782-1667865600-1667951999@cursos.universovisual.com.br
SUMMARY:24º Congresso de Oftalmologia USP
DESCRIPTION:O 24º Congresso de Oftalmologia USP e 23º Congresso de Auxiliares em Oftalmologia da USP acontecerão em São Paulo\, no Centro de Convenções Rebouças\, dias 08 e 12 de Novembro de 2022. \nPara mais informações\, acesse https://cousp.com.br
URL:https://cursos.universovisual.com.br/evento/24o-congresso-de-oftalmologia-usp/
END:VEVENT
BEGIN:VEVENT
DTSTART;TZID=America/Sao_Paulo:20221117T080000
DTEND;TZID=America/Sao_Paulo:20221117T170000
DTSTAMP:20260422T063430
CREATED:20221117T201136Z
LAST-MODIFIED:20221117T201136Z
UID:24344-1668672000-1668704400@cursos.universovisual.com.br
SUMMARY:XIII Congresso Nacional da Sociedade Brasileira de Oftalmologia
DESCRIPTION:O XIII Congresso Nacional da Sociedade Brasileira de Oftalmologia acontece de 13 a 14 de julho em Belo Horizonte\, BH.
URL:https://cursos.universovisual.com.br/evento/xiii-congresso-nacional-da-sociedade-brasileira-de-oftalmologia/
END:VEVENT
BEGIN:VEVENT
DTSTART;TZID=America/Sao_Paulo:20221117T080000
DTEND;TZID=America/Sao_Paulo:20221117T170000
DTSTAMP:20260422T063430
CREATED:20221117T202033Z
LAST-MODIFIED:20221117T202033Z
UID:24350-1668672000-1668704400@cursos.universovisual.com.br
SUMMARY:Congresso de Oftalmologia USP
DESCRIPTION:O Congresso de Oftalmologia USP de 2023 acontece de 28 de novembro a 02 de dezembro em São Paulo\, SP.
URL:https://cursos.universovisual.com.br/evento/congresso-de-oftalmologia-usp/
END:VEVENT
END:VCALENDAR