BEGIN:VCALENDAR
VERSION:2.0
PRODID:-//Universo Visual - ECPv6.3.2//NONSGML v1.0//EN
CALSCALE:GREGORIAN
METHOD:PUBLISH
X-ORIGINAL-URL:https://cursos.universovisual.com.br
X-WR-CALDESC:Eventos para Universo Visual
REFRESH-INTERVAL;VALUE=DURATION:PT1H
X-Robots-Tag:noindex
X-PUBLISHED-TTL:PT1H
BEGIN:VTIMEZONE
TZID:America/Sao_Paulo
BEGIN:STANDARD
TZOFFSETFROM:-0300
TZOFFSETTO:-0300
TZNAME:-03
DTSTART:20230101T000000
END:STANDARD
END:VTIMEZONE
BEGIN:VEVENT
DTSTART;TZID=America/Sao_Paulo:20230309T080000
DTEND;TZID=America/Sao_Paulo:20230311T170000
DTSTAMP:20260421T235552
CREATED:20221117T154144Z
LAST-MODIFIED:20221117T154201Z
UID:24258-1678348800-1678554000@cursos.universovisual.com.br
SUMMARY: XX Simpósio Internacional da Sociedade Brasileira de Glaucoma
DESCRIPTION:O XX Simpósio Internacional da Sociedade Brasileira de Glaucoma acontece de 09 a 13 de março em Porto de Galinhas\, PE. \nPara mais informações clique aqui.
URL:https://cursos.universovisual.com.br/evento/xx-simposio-internacional-da-sociedade-brasileira-de-glaucoma/
END:VEVENT
BEGIN:VEVENT
DTSTART;TZID=America/Sao_Paulo:20230317T080000
DTEND;TZID=America/Sao_Paulo:20230320T170000
DTSTAMP:20260421T235552
CREATED:20221117T154917Z
LAST-MODIFIED:20221117T154917Z
UID:24263-1679040000-1679331600@cursos.universovisual.com.br
SUMMARY:PAAO - Congresso Panamericano de Oftalmologia 2023
DESCRIPTION:O PAAO – Congresso Panamericano de Oftalmologia 2023 acontece de 17 a 20 de março na Argentina. \nPara mais informações clique aqui.
URL:https://cursos.universovisual.com.br/evento/paao-congresso-panamericano-de-oftalmologia-2023/
END:VEVENT
BEGIN:VEVENT
DTSTART;TZID=America/Sao_Paulo:20230322T080000
DTEND;TZID=America/Sao_Paulo:20230325T170000
DTSTAMP:20260421T235552
CREATED:20221117T154455Z
LAST-MODIFIED:20221117T154455Z
UID:24261-1679472000-1679763600@cursos.universovisual.com.br
SUMMARY:45º SIMPÓSIO INTERNACIONAL MOACYR ÁLVARO - 45º SIMASP 2023
DESCRIPTION:O 45º SIMPÓSIO INTERNACIONAL MOACYR ÁLVARO – 45º SIMASP 2023 acontece de 22 a 25 de março\, em São Paulo\, SP. \nPara mais informações clique aqui.
URL:https://cursos.universovisual.com.br/evento/45o-simposio-internacional-moacyr-alvaro-45o-simasp-2023/
END:VEVENT
BEGIN:VEVENT
DTSTART;TZID=America/Sao_Paulo:20230323T130000
DTEND;TZID=America/Sao_Paulo:20230323T143000
DTSTAMP:20260421T235552
CREATED:20230313T203827Z
LAST-MODIFIED:20230314T171347Z
UID:25437-1679576400-1679581800@cursos.universovisual.com.br
SUMMARY:Simpósio Satélite ADAPT (Arena 1)
DESCRIPTION:Simpósio Satélite ADAPT\n• PAULO SCHOR (SP) – Chairman \n13:00 – 13:05: Abertura e boas vindas\n• PAULO SCHOR (SP) – Palestrante \n13:05 – 13:20: Nexus: o futuro da cirurgia oftalmológica\n• ANDRE CORREA MAIA DE CARVALHO (SP) – Palestrante \n13:20 – 13:35: Atualização em biometria\n• FRANCISCO PORFIRIO (DF) – Palestrante \n13:35 – 13:50: Tecnologia de fotobiomodulação\, uma nova abordagem para DMRI seca: resultados iniciais\n• ANDRE ROMANO (SP) – Palestrante \n13:50 – 14:05: Plataforma Vivinex: estabilidade rotacional – experiências iniciais\n• SERGIO KWITKO (RS) – Palestrante \n14:05 – 14:20: Gemetric: um mundo de possibilidades\n• MILTON SEIYU YOGI (SP) – Palestrante \n14:20 – 14:30: Sorteio e encerramento\n• PAULO SCHOR (SP) – Palestrante
URL:https://cursos.universovisual.com.br/evento/simposio-satelite-adapt/
LOCATION:Arena 1- 45º SIMASP\, Transamerica Expo Center\, São Paulo\, São Paulo\, Brasil
END:VEVENT
BEGIN:VEVENT
DTSTART;TZID=America/Sao_Paulo:20230324T130000
DTEND;TZID=America/Sao_Paulo:20230324T143000
DTSTAMP:20260421T235552
CREATED:20230315T171547Z
LAST-MODIFIED:20230315T182924Z
UID:25451-1679662800-1679668200@cursos.universovisual.com.br
SUMMARY:Simpósio Satélite Alcon Cirúrgica (Arena 1)
DESCRIPTION:Simpósio Satélite Alcon Cirúrgica\n13:00 – 13:20 – Vivity®: A tecnologia incorporada nesta nova LIO para correção da presbiopia\n•LAURA PIRES DA CUNHA (SP) – Palestrante \n13:20 – 13:40 – Cirurgia de Catarata\, desafio de uma câmera estável com PIO baixo\n•MILTON SEIYU YOGI (SP) – Palestrante \n13:40 – 14:00 – Discussão
URL:https://cursos.universovisual.com.br/evento/simposio-satelite-alcon-cirurgica-arena-1/
LOCATION:Arena 1- 45º SIMASP\, Transamerica Expo Center\, São Paulo\, São Paulo\, Brasil
END:VEVENT
BEGIN:VEVENT
DTSTART;TZID=America/Sao_Paulo:20230324T130000
DTEND;TZID=America/Sao_Paulo:20230324T143000
DTSTAMP:20260421T235552
CREATED:20230315T172601Z
LAST-MODIFIED:20230315T184412Z
UID:25459-1679662800-1679668200@cursos.universovisual.com.br
SUMMARY:Simpósio Satélite Johnson & Johnson (Arena 2)
DESCRIPTION:Simpósio Satélite Johnson & Johnson\n•LIANG SHIH JUNG (SP) – Moderador(a) \n13:00 – 13:15 – Qual o melhor perfil de paciente para cada tipo de lente Premium?\n•IVAN TEIXEIRA CORSO (SP) – Palestrante \n13:15 – 13:30 – Biometria e target refracional na LIO Synergy\n•MARIA FLAVIA DE LIMA RIBEIRO (SP) – Palestrante \n13:30 – 13:45 – Entendendo a curva de defocus no pós-operatório\n•WALLACE CHAMON (SP) – Palestrante \n13:45 – 14:30 – Discussão
URL:https://cursos.universovisual.com.br/evento/simposio-satelite-johnson-johnson-arena-2/
LOCATION:Arena 2 – 45º SIMASP\, Transamerica Expo Center\, São Paulo\, São Paulo\, Brasil
END:VEVENT
BEGIN:VEVENT
DTSTART;TZID=America/Sao_Paulo:20230324T130000
DTEND;TZID=America/Sao_Paulo:20230324T143000
DTSTAMP:20260421T235552
CREATED:20230315T184003Z
LAST-MODIFIED:20230315T183953Z
UID:25463-1679662800-1679668200@cursos.universovisual.com.br
SUMMARY:Simpósio Satélite LATINOFARMA (Arena 3)
DESCRIPTION:Simpósio Satélite LATINOFARMA\n•ANA LUISA HOFLING-LIMA (SP) – Moderador(a) \n13:00 – 13:15 – Olho seco\n•DENISE DE FREITAS (SP) – Palestrante \n13:15 – 13:30 – Catarata/Refrativa\n•MAURO CAMPOS (SP) – Palestrante \n13:30 – 13:45 – Glaucoma\n•IVAN MAYNART TAVARES (SP) – Palestrante \n13:45 – 14:00 – Suplementação Ômega-3\n•RENATO LEÇA (SP) – Palestrante \n14:00 – 14:15 – Retina\n•MICHEL EID FARAH (SP) – Palestrante \n14:15 – 14:30 – Discussão
URL:https://cursos.universovisual.com.br/evento/simposio-satelite-latinofarma-arena-3/
LOCATION:Arena 3 – 45º SIMASP\, Transamerica Expo Center\, São Paulo\, São Paulo\, Brasil
END:VEVENT
BEGIN:VEVENT
DTSTART;TZID=America/Sao_Paulo:20230329T080000
DTEND;TZID=America/Sao_Paulo:20230402T170000
DTSTAMP:20260421T235552
CREATED:20221117T155531Z
LAST-MODIFIED:20221117T155531Z
UID:24265-1680076800-1680454800@cursos.universovisual.com.br
SUMMARY:REFRATIVA R.I.O. 2023
DESCRIPTION:O curso REFRATIVA R.I.O. 2023 acontece de 29 de março a 02 de abril no Rio de Janeiro\, RJ. \nPara mais informações clique aqui.
URL:https://cursos.universovisual.com.br/evento/refrativa-r-i-o-2023/
END:VEVENT
BEGIN:VEVENT
DTSTART;TZID=America/Sao_Paulo:20230330T080000
DTEND;TZID=America/Sao_Paulo:20230401T170000
DTSTAMP:20260421T235552
CREATED:20221117T160251Z
LAST-MODIFIED:20221117T160251Z
UID:24267-1680163200-1680368400@cursos.universovisual.com.br
SUMMARY:29º Congresso Norte Nordeste de Oftalmologia (CNNO2023)
DESCRIPTION:O 29º Congresso Norte Nordeste de Oftalmologia (CNNO2023) acontece 30 de março a 01 de abril em Salvador\, BA. \n 
URL:https://cursos.universovisual.com.br/evento/29o-congresso-norte-nordeste-de-oftalmologia-cnno2023/
END:VEVENT
BEGIN:VEVENT
DTSTART;TZID=America/Sao_Paulo:20230331T124500
DTEND;TZID=America/Sao_Paulo:20230331T134500
DTSTAMP:20260421T235552
CREATED:20230327T205319Z
LAST-MODIFIED:20230327T205319Z
UID:25716-1680266700-1680270300@cursos.universovisual.com.br
SUMMARY:Simpósio Satélite Latinofarma (Auditório 1)
DESCRIPTION:Simpósio Satélite Latinofarma – 12:45 – 13:45\n•Área: Geral\n•Tipo de atividade: Simpósio Satélite\n•Grade: CIENTÍFICA
URL:https://cursos.universovisual.com.br/evento/simposio-satelite-latinofarma-auditorio-1/
LOCATION:Centro de Convenções Salvador\, Av. Octávio Mangabeira\, 5.490 - Boca do Rio\, Salvador\, Bahia\, Brasil
END:VEVENT
BEGIN:VEVENT
DTSTART;TZID=America/Sao_Paulo:20230331T124500
DTEND;TZID=America/Sao_Paulo:20230331T134500
DTSTAMP:20260421T235552
CREATED:20230328T193215Z
LAST-MODIFIED:20230328T193215Z
UID:25743-1680266700-1680270300@cursos.universovisual.com.br
SUMMARY:Simpósio Satélite Essilor (Auditório 2)
DESCRIPTION:Simpósio satélite Essilor – 12:45 – 13:45\n•Área: Geral\n•Tipo de atividade: Simpósio Satélite\n•Grade: CIENTÍFICA
URL:https://cursos.universovisual.com.br/evento/simposio-satelite-essilor-auditorio-2/
LOCATION:Centro de Convenções Salvador\, Av. Octávio Mangabeira\, 5.490 - Boca do Rio\, Salvador\, Bahia\, Brasil
END:VEVENT
BEGIN:VEVENT
DTSTART;TZID=America/Sao_Paulo:20230331T124500
DTEND;TZID=America/Sao_Paulo:20230331T134500
DTSTAMP:20260421T235552
CREATED:20230328T193804Z
LAST-MODIFIED:20230328T195635Z
UID:25746-1680266700-1680270300@cursos.universovisual.com.br
SUMMARY:Simpósio Satélite Leedsay (Auditório 5)
DESCRIPTION:Simpósio Satélite Leedsay – 12:45 – 13:45\n•Área: Geral\n•Tipo de atividade: Simpósio Satélite\n•Grade: CIENTÍFICA
URL:https://cursos.universovisual.com.br/evento/simposio-satelite-leedsay-auditorio-5/
LOCATION:Centro de Convenções Salvador\, Av. Octávio Mangabeira\, 5.490 - Boca do Rio\, Salvador\, Bahia\, Brasil
END:VEVENT
BEGIN:VEVENT
DTSTART;TZID=America/Sao_Paulo:20230331T124500
DTEND;TZID=America/Sao_Paulo:20230331T134500
DTSTAMP:20260421T235552
CREATED:20230328T194503Z
LAST-MODIFIED:20230328T194503Z
UID:25749-1680266700-1680270300@cursos.universovisual.com.br
SUMMARY:Simpósio Satélite Ophthalmos - (Auditório 7)
DESCRIPTION:Simpósio Satélite Ophthalmos – 12:45 – 13:45\n•Área: Geral\n•Tipo de atividade: Simpósio Satélite\n•Grade: CIENTÍFICA
URL:https://cursos.universovisual.com.br/evento/simposio-satelite-ophthalmos-auditorio-7/
LOCATION:Centro de Convenções Salvador\, Av. Octávio Mangabeira\, 5.490 - Boca do Rio\, Salvador\, Bahia\, Brasil
END:VEVENT
END:VCALENDAR