BEGIN:VCALENDAR
VERSION:2.0
PRODID:-//Universo Visual - ECPv6.3.2//NONSGML v1.0//EN
CALSCALE:GREGORIAN
METHOD:PUBLISH
X-ORIGINAL-URL:https://cursos.universovisual.com.br
X-WR-CALDESC:Eventos para Universo Visual
REFRESH-INTERVAL;VALUE=DURATION:PT1H
X-Robots-Tag:noindex
X-PUBLISHED-TTL:PT1H
BEGIN:VTIMEZONE
TZID:America/Sao_Paulo
BEGIN:STANDARD
TZOFFSETFROM:-0300
TZOFFSETTO:-0300
TZNAME:-03
DTSTART:20230101T000000
END:STANDARD
END:VTIMEZONE
BEGIN:VEVENT
DTSTART;TZID=America/Sao_Paulo:20230428T080000
DTEND;TZID=America/Sao_Paulo:20230501T170000
DTSTAMP:20260421T203627
CREATED:20221117T163639Z
LAST-MODIFIED:20221117T163639Z
UID:24273-1682668800-1682960400@cursos.universovisual.com.br
SUMMARY:47th BRAVS MEETING - RETINA 2023
DESCRIPTION:RETINA 2023 acontece de 28 de abril a 01 de maio no Rio de Janeiro\, RJ. \nPara mais informações clique aqui.
URL:https://cursos.universovisual.com.br/evento/47th-bravs-meeting-retina-2023/
END:VEVENT
BEGIN:VEVENT
DTSTART;TZID=America/Sao_Paulo:20230428T080000
DTEND;TZID=America/Sao_Paulo:20230502T170000
DTSTAMP:20260421T203627
CREATED:20221117T164619Z
LAST-MODIFIED:20221117T164619Z
UID:24276-1682668800-1683046800@cursos.universovisual.com.br
SUMMARY:SOPANOP – 5º OCULOPLÁSTICA SIN FRONTERAS
DESCRIPTION:A 5º OCULOPLÁSTICA SIN FRONTERAS acontece de 28 de abril a 2 e maio em Cancún\, México. \nPara mais informações clique aqui.
URL:https://cursos.universovisual.com.br/evento/sopanop-5o-oculoplastica-sin-fronteras/
END:VEVENT
BEGIN:VEVENT
DTSTART;TZID=America/Sao_Paulo:20230505T080000
DTEND;TZID=America/Sao_Paulo:20230507T170000
DTSTAMP:20260421T203627
CREATED:20221117T201413Z
LAST-MODIFIED:20221117T201413Z
UID:24346-1683273600-1683478800@cursos.universovisual.com.br
SUMMARY:WSOPRAS 2023
DESCRIPTION:O WSOPRAS 2023 acontece de 05 a 07 de maio em Dubai.
URL:https://cursos.universovisual.com.br/evento/wsopras-2023/
END:VEVENT
BEGIN:VEVENT
DTSTART;TZID=America/Sao_Paulo:20230505T080000
DTEND;TZID=America/Sao_Paulo:20230508T170000
DTSTAMP:20260421T203627
CREATED:20221117T165737Z
LAST-MODIFIED:20221117T165737Z
UID:24280-1683273600-1683565200@cursos.universovisual.com.br
SUMMARY:ASCRS 2023 – Annual Meeting
DESCRIPTION:ASCRS 2023 acontece de 05 a 08 de maio em San Diego. \nPara mais informações clique aqui.
URL:https://cursos.universovisual.com.br/evento/ascrs-2023-annual-meeting/
END:VEVENT
BEGIN:VEVENT
DTSTART;TZID=America/Sao_Paulo:20230511T080000
DTEND;TZID=America/Sao_Paulo:20230513T170000
DTSTAMP:20260421T203627
CREATED:20230504T201344Z
LAST-MODIFIED:20230504T201403Z
UID:26311-1683792000-1683997200@cursos.universovisual.com.br
SUMMARY:Simpósio Internacional de oftalmologia Jacques Tupinambá
DESCRIPTION:Simpósio Internacional de oftalmologia Jacques Tupinambá\, acontece de 11 a 13 de Maio\, em São Paulo. \nPara Mais Informações Clique Aqui.
URL:https://cursos.universovisual.com.br/evento/simposio-internacional-de-oftalmologia-jacques-tupinamba/
LOCATION:Departamento de Oftalmologia da Santa Casa de São Paulo Centro de Convenções Rebouças\, são paulo\, são paulo
END:VEVENT
BEGIN:VEVENT
DTSTART;TZID=America/Sao_Paulo:20230524T080000
DTEND;TZID=America/Sao_Paulo:20230525T170000
DTSTAMP:20260421T203627
CREATED:20221222T153743Z
LAST-MODIFIED:20221222T173434Z
UID:24967-1684915200-1685034000@cursos.universovisual.com.br
SUMMARY:1º Congresso Brasileiro de Córnea da SBC
DESCRIPTION:O 1º Congresso Brasileiro de Córnea da SBC acontecerá entre os dias 24 e 25 de maio de 2023 no Transamérica Expo Center em parceria com a BRASCRS. \n  \nSaiba mais acessando: https://www.sbc.med.br/
URL:https://cursos.universovisual.com.br/evento/1o-congresso-brasileiro-de-cornea-da-sbc/
END:VEVENT
BEGIN:VEVENT
DTSTART;TZID=America/Sao_Paulo:20230524T080000
DTEND;TZID=America/Sao_Paulo:20230527T170000
DTSTAMP:20260421T203627
CREATED:20221117T170407Z
LAST-MODIFIED:20221117T170407Z
UID:24284-1684915200-1685206800@cursos.universovisual.com.br
SUMMARY:BRASCRS 2023 – Congresso Internacional de Catarata e Cirurgia Refrativa
DESCRIPTION:O Congresso Internacional de Catarata e Cirurgia Refrativa – BRASCRS 2023 acontece de 24 a 27 de maio em São Paulo\, SP. \nPara mais informações clique aqui.
URL:https://cursos.universovisual.com.br/evento/brascrs-2023-congresso-internacional-de-catarata-e-cirurgia-refrativa/
END:VEVENT
END:VCALENDAR