BEGIN:VCALENDAR
VERSION:2.0
PRODID:-//Universo Visual - ECPv6.3.2//NONSGML v1.0//EN
CALSCALE:GREGORIAN
METHOD:PUBLISH
X-WR-CALNAME:Universo Visual
X-ORIGINAL-URL:https://cursos.universovisual.com.br
X-WR-CALDESC:Eventos para Universo Visual
REFRESH-INTERVAL;VALUE=DURATION:PT1H
X-Robots-Tag:noindex
X-PUBLISHED-TTL:PT1H
BEGIN:VTIMEZONE
TZID:America/Sao_Paulo
BEGIN:STANDARD
TZOFFSETFROM:-0300
TZOFFSETTO:-0300
TZNAME:-03
DTSTART:20230101T000000
END:STANDARD
END:VTIMEZONE
BEGIN:VEVENT
DTSTART;TZID=America/Sao_Paulo:20230706T080000
DTEND;TZID=America/Sao_Paulo:20230708T170000
DTSTAMP:20260421T171403
CREATED:20230629T171911Z
LAST-MODIFIED:20230629T171911Z
UID:26693-1688630400-1688835600@cursos.universovisual.com.br
SUMMARY:Sociedade Internacional de Doenças Oculares Genéticas e Retinoblastoma (ISGEDR)
DESCRIPTION:O ISGEDR acontecerá de 6 a 8 de julho de 2023\, em São Paulo.\nPara mais informações clique aqui.
URL:https://cursos.universovisual.com.br/evento/sociedade-internacional-de-doencas-oculares-geneticas-e-retinoblastoma-isgedr/
END:VEVENT
BEGIN:VEVENT
DTSTART;VALUE=DATE:20230713
DTEND;VALUE=DATE:20230714
DTSTAMP:20260421T171403
CREATED:20221013T230053Z
LAST-MODIFIED:20221013T230053Z
UID:20787-1689206400-1689292799@cursos.universovisual.com.br
SUMMARY:12º Simpósio Anual de Verão da AECOS
DESCRIPTION:O 12º Simpósio Anual de Verão da AECOS acontecerá de 13 a 16 de Julho de 2023\, em  Deer Valley\, Utah.\n\nMais informações em https://aecosurgery.org/2023-summer-symposium/
URL:https://cursos.universovisual.com.br/evento/12o-simposio-anual-de-verao-da-aecos/
END:VEVENT
BEGIN:VEVENT
DTSTART;TZID=America/Sao_Paulo:20230713T080000
DTEND;TZID=America/Sao_Paulo:20230715T173000
DTSTAMP:20260421T171403
CREATED:20230529T180734Z
LAST-MODIFIED:20230530T202456Z
UID:26436-1689235200-1689442200@cursos.universovisual.com.br
SUMMARY:XII Congresso Nacional da Sociedade Brasileira de Oftalmologia (SBO)
DESCRIPTION:O SBO 2023\, acontece de 13 a 15 de julho de 2023\, em Minascentro – Belo Horizonte/MG \nPara mais informações clique aqui.
URL:https://cursos.universovisual.com.br/evento/xii-congresso-nacional-da-sociedade-brasileira-de-oftalmologia-sbo/
END:VEVENT
BEGIN:VEVENT
DTSTART;TZID=America/Sao_Paulo:20230713T123000
DTEND;TZID=America/Sao_Paulo:20230713T133000
DTSTAMP:20260421T171403
CREATED:20230707T212907Z
LAST-MODIFIED:20230707T212907Z
UID:26760-1689251400-1689255000@cursos.universovisual.com.br
SUMMARY:Simpósio Satélite Essilor Stellest (Auditório - B)
DESCRIPTION:Simpósio Essilor Stellest – SBO 2023\n13/07- 12:30 a 13:30\, Auditório B
URL:https://cursos.universovisual.com.br/evento/simposio-satelite-essilor-stellest-auditorio-b/
LOCATION:Minascentro – Belo Horizonte/MG
END:VEVENT
BEGIN:VEVENT
DTSTART;TZID=America/Sao_Paulo:20230713T123000
DTEND;TZID=America/Sao_Paulo:20230713T133000
DTSTAMP:20260421T171403
CREATED:20230707T213250Z
LAST-MODIFIED:20230707T213250Z
UID:26765-1689251400-1689255000@cursos.universovisual.com.br
SUMMARY:Simpósio Satélite Johnson & Johnson Vision (Auditório - C 2)
DESCRIPTION:Simpósio Johnson & Johnson Vision – SBO 2023\n13/07- 12:30 a 13:30\, Auditório C2
URL:https://cursos.universovisual.com.br/evento/simposio-satelite-johnson-johnson-vision-auditorio-c-2/
LOCATION:Minascentro – Belo Horizonte/MG
END:VEVENT
BEGIN:VEVENT
DTSTART;TZID=America/Sao_Paulo:20230713T140000
DTEND;TZID=America/Sao_Paulo:20230713T153000
DTSTAMP:20260421T171403
CREATED:20230707T225618Z
LAST-MODIFIED:20230707T225618Z
UID:26771-1689256800-1689262200@cursos.universovisual.com.br
SUMMARY:Entrega: Medalha da Visão - Glaucoma (Auditório - B)
DESCRIPTION:ENTREGA MEDALHA DA VISÃO – GLAUCOMA (SBO 2023)\n13/07- 14:00 as 15:30\, Auditório B\nÁrea: Glaucoma
URL:https://cursos.universovisual.com.br/evento/entrega-medalha-da-visao-glaucoma-auditorio-b/
LOCATION:Minascentro – Belo Horizonte/MG
END:VEVENT
BEGIN:VEVENT
DTSTART;TZID=America/Sao_Paulo:20230713T160000
DTEND;TZID=America/Sao_Paulo:20230713T173000
DTSTAMP:20260421T171403
CREATED:20230707T230141Z
LAST-MODIFIED:20230707T230141Z
UID:26773-1689264000-1689269400@cursos.universovisual.com.br
SUMMARY:Entrega: Medalha Abreu Fialho (Auditório - C)
DESCRIPTION:Entrega: Medalha Abreu Fialho (SBO 2023)\n13/07- 16:00 as 17:30\, Auditório C\nÁrea: SBO 2023\, Grande Teatro
URL:https://cursos.universovisual.com.br/evento/entrega-medalha-abreu-fialho-auditorio-c/
LOCATION:Grande Teatro\, Minascentro- Belo Horizonte/MG
END:VEVENT
BEGIN:VEVENT
DTSTART;TZID=America/Sao_Paulo:20230713T160000
DTEND;TZID=America/Sao_Paulo:20230713T173000
DTSTAMP:20260421T171403
CREATED:20230707T231505Z
LAST-MODIFIED:20230707T231505Z
UID:26776-1689264000-1689269400@cursos.universovisual.com.br
SUMMARY:SBO Talks + Entrega Prêmio Varilux (Auditório - C)
DESCRIPTION:SBO Talks + Entrega Prêmio Varilux (SBO 2023)\n13/07\, 16:00 as 17:30\, Auditório C\nÁrea: SBO 2023\, Grande Teatro
URL:https://cursos.universovisual.com.br/evento/sbo-talks-entrega-premio-varilux-auditorio-c/
LOCATION:Grande Teatro\, Minascentro- Belo Horizonte/MG
END:VEVENT
BEGIN:VEVENT
DTSTART;TZID=America/Sao_Paulo:20230714T123000
DTEND;TZID=America/Sao_Paulo:20230714T133000
DTSTAMP:20260421T171403
CREATED:20230707T213622Z
LAST-MODIFIED:20230707T213622Z
UID:26767-1689337800-1689341400@cursos.universovisual.com.br
SUMMARY:Simpósio Satélite Varilux (Auditório - A)
DESCRIPTION:Simpósio Satélite Varilux – SBO 2023\n14/07- 12:30 a 13:30\, Auditório A
URL:https://cursos.universovisual.com.br/evento/simposio-satelite-varilux-auditorio-a/
LOCATION:Minascentro – Belo Horizonte/MG
END:VEVENT
BEGIN:VEVENT
DTSTART;TZID=America/Sao_Paulo:20230714T123000
DTEND;TZID=America/Sao_Paulo:20230714T133000
DTSTAMP:20260421T171403
CREATED:20230707T213906Z
LAST-MODIFIED:20230707T213906Z
UID:26769-1689337800-1689341400@cursos.universovisual.com.br
SUMMARY:Simpósio Satélite Hoya (Auditório D)
DESCRIPTION:Simpósio Hoya – SBO 2023\n14/07- 12:30 a 13:30\, Auditório D
URL:https://cursos.universovisual.com.br/evento/simposio-satelite-hoya-auditorio-d/
LOCATION:Minascentro – Belo Horizonte/MG
END:VEVENT
END:VCALENDAR