BEGIN:VCALENDAR
VERSION:2.0
PRODID:-//Universo Visual - ECPv6.3.2//NONSGML v1.0//EN
CALSCALE:GREGORIAN
METHOD:PUBLISH
X-ORIGINAL-URL:https://cursos.universovisual.com.br
X-WR-CALDESC:Eventos para Universo Visual
REFRESH-INTERVAL;VALUE=DURATION:PT1H
X-Robots-Tag:noindex
X-PUBLISHED-TTL:PT1H
BEGIN:VTIMEZONE
TZID:America/Sao_Paulo
BEGIN:STANDARD
TZOFFSETFROM:-0300
TZOFFSETTO:-0300
TZNAME:-03
DTSTART:20230101T000000
END:STANDARD
END:VTIMEZONE
BEGIN:VEVENT
DTSTART;TZID=America/Sao_Paulo:20231005T080000
DTEND;TZID=America/Sao_Paulo:20231008T170000
DTSTAMP:20260421T121823
CREATED:20230410T202052Z
LAST-MODIFIED:20230410T202126Z
UID:26169-1696492800-1696784400@cursos.universovisual.com.br
SUMMARY:Congresso da Sociedade Europeia de Especialistas em Retina (EURETINA)
DESCRIPTION:EURETINA acontece de 5 a 8 de outubro\, em Amsterdam\, Holanda. \nPara mais informações Clique Aqui.
URL:https://cursos.universovisual.com.br/evento/congresso-da-sociedade-europeia-de-especialistas-em-retina-euretina/
END:VEVENT
BEGIN:VEVENT
DTSTART;TZID=America/Sao_Paulo:20231009T080000
DTEND;TZID=America/Sao_Paulo:20231011T170000
DTSTAMP:20260421T121823
CREATED:20230410T201312Z
LAST-MODIFIED:20230410T202215Z
UID:26164-1696838400-1697043600@cursos.universovisual.com.br
SUMMARY:WOC 2023
DESCRIPTION:WOC 2023\, acontece de 9 a 11 de outubro\, em Nova York. \nPara mais informações Clique Aqui.
URL:https://cursos.universovisual.com.br/evento/woc-2023/
END:VEVENT
BEGIN:VEVENT
DTSTART;TZID=America/Sao_Paulo:20231013T080000
DTEND;TZID=America/Sao_Paulo:20231014T170000
DTSTAMP:20260421T121823
CREATED:20221117T201815Z
LAST-MODIFIED:20230728T193053Z
UID:24348-1697184000-1697302800@cursos.universovisual.com.br
SUMMARY:CIOP / CIEPO 2023
DESCRIPTION:Os CIOP / CIEPO 2023 (29º Congresso Internacional de Oculoplástica e 8º Congresso Internacional de Estética Periocular) acontece nos dias 13 e 14 de outubro em São Paulo\, SP. \nPara mais informações clique aqui.
URL:https://cursos.universovisual.com.br/evento/ciop-ciepo-2023/
END:VEVENT
BEGIN:VEVENT
DTSTART;TZID=America/Sao_Paulo:20231026T080000
DTEND;TZID=America/Sao_Paulo:20231028T170000
DTSTAMP:20260421T121823
CREATED:20221117T194807Z
LAST-MODIFIED:20230929T200124Z
UID:24334-1698307200-1698512400@cursos.universovisual.com.br
SUMMARY:Imersão Presbiopia - BRASCRS
DESCRIPTION:A BRASCRS Imersão acontece de 26 a 28 de outubro em Brasília\, DF. \nPara mais informações clique aqui. \n 
URL:https://cursos.universovisual.com.br/evento/imersao-presbiopia-brascrs-imersao/
END:VEVENT
BEGIN:VEVENT
DTSTART;TZID=America/Sao_Paulo:20231027T080000
DTEND;TZID=America/Sao_Paulo:20231028T170000
DTSTAMP:20260421T121823
CREATED:20230727T205341Z
LAST-MODIFIED:20230727T205341Z
UID:27190-1698393600-1698512400@cursos.universovisual.com.br
SUMMARY:XI Congresso Brasileiro SOBLEC
DESCRIPTION:O XI Congresso Brasileiro SOBLEC ocorre nos dias 27 e 28 de outubro de 2023 em São Paulo \nSaiba mais clicando aqui.
URL:https://cursos.universovisual.com.br/evento/xi-congresso-brasileiro-soblec/
LOCATION:São Paulo
END:VEVENT
END:VCALENDAR